Workbook
Name Data24: AFRAPR!$C$5:$W$45
Name Data24: #REF!
Name Data25: AFRAPR!$C$5:$W$45
Name Districtname: #REF!
Name Districtname: Worksheet!$E$7
Name Print_Area_MI: VALTAX26!$B$1:$G$57

Sheet Worksheet
A1: Utah State Board of Education
A2: Local School District
A3: Residual per Student Expenditure
A4: Fund Transfer Worksheet
A5: FY 2026
B7: Type District Name Here: | E7: Alpine
C8: Page # of Report
A9: Items | E9: Total Amounts
A11: Total Expenditures Before Interfund Transfers:
A12: A. Maintenance and Operation Fund (AR) | C12: =VLOOKUP(Districtname,Data,3) -> #NAME? | E12: =VLOOKUP(Districtname,Data25,2,FALSE) -> 851320330
A13: B. Capital Outlay Expenditures | C13: =VLOOKUP(Districtname,Data,3) -> #NAME? | E13: =VLOOKUP(Districtname,Data25,3,FALSE) -> 122436473
A14: C. Less-Site Acquisition (AFR) | C14: =VLOOKUP(Districtname,Data,10) -> #NAME? | E14: =VLOOKUP(Districtname,Data25,6,FALSE)*-1 -> -25963549
A15: D. Less-New Sq. Ft. Construction (AFR) | C15: =VLOOKUP(Districtname,Data,10) -> #NAME? | E15: =VLOOKUP(Districtname,Data25,7,FALSE)*-1 -> -17620423
A16: E. Less-Remodeling (AFR) | C16: =VLOOKUP(Districtname,Data,10) -> #NAME? | E16: =VLOOKUP(Districtname,Data25,8,FALSE)*-1 -> -45334314
A17: F. | B17: Total (A through E) | E17: =+E12+E13+E14+E15+E16 -> 884838517
A19: Less Revenues:
A20: G. Taxes Collected Under MSP Basic Rate (AFR/AR) | E20: =VLOOKUP(Districtname,Data25,12,FALSE) -> 84129829
A21: H. State Revenue [M&O] (AR) | C21: =VLOOKUP(Districtname,Data,3) -> #NAME? | E21: =VLOOKUP(Districtname,Data25,13,FALSE) -> 633990447
A22: I. Federal Revenue [M&O] (AR) | C22: =VLOOKUP(Districtname,Data,3) -> #NAME? | E22: =VLOOKUP(Districtname,Data25,14,FALSE) -> 24984866
A23: J. State Revenue [CO] (AR) | C23: =VLOOKUP(Districtname,Data,3) -> #NAME? | E23: =VLOOKUP(Districtname,Data25,15,FALSE) -> 1379194
A24: K. Federal Revenue [CO] (AR) | C24: =VLOOKUP(Districtname,Data,3) -> #NAME? | E24: =VLOOKUP(Districtname,Data25,16,FALSE) -> 0
A25: L. | B25: Total (G through K) | E25: =+E20+E21+E22+E23+E24 -> 7.4448434e+08
A27: M. | B27: Difference (F minus L) | E27: =-E25+E17 -> 1.4035418e+08
A29: N. | B29: Average Daily Membership | E29: =VLOOKUP(Districtname,Data25,19,FALSE) -> 83660.106
A31: O. | B31: Local Expenditure per Student (Divide M by N) | E31: =IF(E29=0,0,ROUND(E27/E29,2)) -> 1677.67
A33: P. | B33: 50% Allotment (O times 50%) (Not less than zero) | E33: =IF(E31>0,ROUND(E31*0.5,2),0) -> 838.84
A35: Q. | B35: Number of Students Attending other LEAs | E35: 0
A37: R. | B37: Amount Due Other LEA (P times Q) | E37: =IF(E35=0,"",ROUND(E33*E35,2))
A39: Use this worksheet to calculate the per pupil share of local school district funds to
A40: be forwarded to another school district from the school district of residence
A41: for students attending schools within the host school district.
A43: Information for this worksheet is taken from the summary of Annual Financial Reports
A44: of school districts.
A46: Statute and Rule:
A47: UCA 53G-6-405
A48: R277-437

Sheet Summary Sheet
A1: Utah State Board of Education
A2: Local School District
A3: Summary of 50% of Local Expenditure per Student
A4: =Worksheet!A5 -> FY 2026
B6: Amount | C6: Number of
A7: District | B7: per Student | C7: Students | D7: Total
A8: Alpine | B8: =_xlfn.XLOOKUP(A8,AFRAPR!C5:C45,AFRAPR!W5:W45,0,0) -> 838.84 | D8: =+B8*C8 -> 0
A9: Beaver | B9: =_xlfn.XLOOKUP(A9,AFRAPR!C6:C46,AFRAPR!W6:W46,0,0) -> 2057.48 | D9: =+B9*C9 -> 0
A10: Box Elder | B10: =_xlfn.XLOOKUP(A10,AFRAPR!C7:C47,AFRAPR!W7:W47,0,0) -> 1224.79 | D10: =+B10*C10 -> 0
A11: Cache | B11: =_xlfn.XLOOKUP(A11,AFRAPR!C8:C48,AFRAPR!W8:W48,0,0) -> 451.77 | D11: =+B11*C11 -> 0
A12: Carbon | B12: =_xlfn.XLOOKUP(A12,AFRAPR!C9:C49,AFRAPR!W9:W49,0,0) -> 1825.12 | D12: =+B12*C12 -> 0
A13: Daggett | B13: =_xlfn.XLOOKUP(A13,AFRAPR!C10:C50,AFRAPR!W10:W50,0,0) -> 5785.56 | D13: =+B13*C13 -> 0
A14: Davis | B14: =_xlfn.XLOOKUP(A14,AFRAPR!C11:C51,AFRAPR!W11:W51,0,0) -> 1092.59 | D14: =+B14*C14 -> 0
A15: Duchesne | B15: =_xlfn.XLOOKUP(A15,AFRAPR!C12:C52,AFRAPR!W12:W52,0,0) -> 1369.27 | D15: =+B15*C15 -> 0
A16: Emery | B16: =_xlfn.XLOOKUP(A16,AFRAPR!C13:C53,AFRAPR!W13:W53,0,0) -> 3967.51 | D16: =+B16*C16 -> 0
A17: Garfield | B17: =_xlfn.XLOOKUP(A17,AFRAPR!C14:C54,AFRAPR!W14:W54,0,0) -> 353.13 | D17: =+B17*C17 -> 0
A18: Grand | B18: =_xlfn.XLOOKUP(A18,AFRAPR!C15:C55,AFRAPR!W15:W55,0,0) -> 4245.07 | D18: =+B18*C18 -> 0
A19: Granite | B19: =_xlfn.XLOOKUP(A19,AFRAPR!C16:C56,AFRAPR!W16:W56,0,0) -> 1350.46 | D19: =+B19*C19 -> 0
... A48: Canyons | B48: =_xlfn.XLOOKUP(A48,AFRAPR!C45:C85,AFRAPR!W45:W85,0,0) -> 2016.86 | D48: =+B48*C48 -> 0
D49: =SUM(D8:D47) -> 0
A50: AVERAGE | B50: =SUM(B8:B48)/41 -> 1830.068

Sheet AFRAPR
D2: 1 | E2: 2 | F2: 3 | G2: 4 | H2: 5 | I2: 6 | J2: 7 | K2: 8 | L2: 9 | M2: 10 | N2: 11 | O2: 12 | P2: 13 | Q2: 14 | R2: 15 | S2: 16 | T2: 17 | U2: 18 | V2: 19 | W2: 20
D3: General Fund Total Expendutures | E3: Capital Outlay Total Expenditures | F3: Interest | G3: Redemption of Principal | H3: AFR-Total Property | I3: AFR-Total Building | J3: AFR-Total Construction | K3: Total Exp Less Prop, Bldg, Construction | L3: Prop Tax Rev | M3: Rate | N3: Local Rev Collected Under Basic Rate (MSP) | O3: State Revenue Gen Fund | P3: Fed Revenue Gen fund | Q3: State Rev -Cap. Projects | R3: Fed Rev-Cap. Projects | S3: Total Local, State, Federal Rev | T3: Total Exp Less Local, State, Fed Rev & Exp for Prop., Bldg, Construction | U3: K-12 +SC ADM-FY25 | V3: Residual per Student Expenditure | W3: 0.5
A4: ID | C4: Name | D4: A | E4: B | F4: B1 | G4: B2 | H4: C | I4: D | J4: E | K4: F | N4: G | O4: H | P4: I | Q4: J | R4: K | S4: L | T4: M | U4: N | V4: O | W4: P
A5: 001 | B5: 1 | C5: Alpine | D5: 851320330 | E5: 122436473 | F5: 6671878 | G5: 6065422 | H5: 25963549 | I5: 17620423 | J5: 45334314 | K5: =D5+E5-H5-I5-J5 -> 884838517 | L5: 214015548 | M5: =VALTAX26!D10+VALTAX26!E10+VALTAX26!H10 -> 0.003508 | N5: =(VALTAX26!D10/AFRAPR!M5)*AFRAPR!L5 -> 84129829 | O5: 633990447 | P5: 24984866 | Q5: 1379194 | R5: 0 | S5: =SUM(N5:R5) -> 7.4448434e+08 | T5: =K5-S5 -> 1.4035418e+08 | U5: =_xlfn.XLOOKUP(B5,FY26_FE_Data_April15[ID],FY26_FE_Data_April15[FY25 ADM - K-12 + SC],0,0) -> 83660.106 | V5: =T5/U5 -> 1677.6716 | W5: =IF(V5>0,ROUND(V5/2,2),0) -> 838.84
A6: 002 | B6: 2 | C6: Beaver | D6: 23004418 | E6: 1339803.1 | F6: 0 | G6: 0 | H6: 0 | I6: 0 | J6: 459061.51 | K6: =D6+E6-H6-I6-J6 -> 23885159 | L6: 6914115.7 | M6: =VALTAX26!D11+VALTAX26!E11+VALTAX26!H11 -> 0.003937 | N6: =(VALTAX26!D11/AFRAPR!M6)*AFRAPR!L6 -> 2421784.5 | O6: 14863431 | P6: 766693.02 | Q6: 2392.65 | R6: 0 | S6: =SUM(N6:R6) -> 18054301 | T6: =K6-S6 -> 5830858 | U6: =_xlfn.XLOOKUP(B6,FY26_FE_Data_April15[ID],FY26_FE_Data_April15[FY25 ADM - K-12 + SC],0,0) -> 1416.9889 | V6: =T6/U6 -> 4114.9638 | W6: =IF(V6>0,ROUND(V6/2,2),0) -> 2057.48
A7: 003 | B7: 3 | C7: Box Elder | D7: 1.3348363e+08 | E7: 11101409 | F7: 224293.07 | G7: 1671351 | H7: 0 | I7: 866521.11 | J7: 114991.22 | K7: =D7+E7-H7-I7-J7 -> 1.4360353e+08 | L7: 35322558 | M7: =VALTAX26!D12+VALTAX26!E12+VALTAX26!H12 -> 0.004129 | N7: =(VALTAX26!D12/AFRAPR!M7)*AFRAPR!L7 -> 11796999 | O7: 94327918 | P7: 6691444.5 | Q7: 1312515.4 | R7: 20112.3 | S7: =SUM(N7:R7) -> 1.1414899e+08 | T7: =K7-S7 -> 29454539 | U7: =_xlfn.XLOOKUP(B7,FY26_FE_Data_April15[ID],FY26_FE_Data_April15[FY25 ADM - K-12 + SC],0,0) -> 12024.333 | V7: =T7/U7 -> 2449.5777 | W7: =IF(V7>0,ROUND(V7/2,2),0) -> 1224.79
A8: 004 | B8: 4 | C8: Cache | D8: 2.118608e+08 | E8: 54696222 | F8: 0 | G8: 0 | H8: 25000 | I8: 0 | J8: 52089538 | K8: =D8+E8-H8-I8-J8 -> 2.1444248e+08 | L8: 35196846 | M8: =VALTAX26!D13+VALTAX26!E13+VALTAX26!H13 -> 0.002852 | N8: =(VALTAX26!D13/AFRAPR!M8)*AFRAPR!L8 -> 17018391 | O8: 1.6616108e+08 | P8: 8750771.1 | Q8: 4663037.3 | R8: 0 | S8: =SUM(N8:R8) -> 1.9659328e+08 | T8: =K8-S8 -> 17849197 | U8: =_xlfn.XLOOKUP(B8,FY26_FE_Data_April15[ID],FY26_FE_Data_April15[FY25 ADM - K-12 + SC],0,0) -> 19754.767 | V8: =T8/U8 -> 903.53876 | W8: =IF(V8>0,ROUND(V8/2,2),0) -> 451.77
A9: 005 | B9: 5 | C9: Carbon | D9: 43398401 | E9: 6068891.4 | F9: 0 | G9: 0 | H9: 0 | I9: 124118.31 | J9: 3822069.8 | K9: =D9+E9-H9-I9-J9 -> 45521105 | L9: 11447410 | M9: =VALTAX26!D14+VALTAX26!E14+VALTAX26!H14 -> 0.004517 | N9: =(VALTAX26!D14/AFRAPR!M9)*AFRAPR!L9 -> 3494792.7 | O9: 27728265 | P9: 2459452.4 | Q9: 322911.98 | R9: 0 | S9: =SUM(N9:R9) -> 34005422 | T9: =K9-S9 -> 11515683 | U9: =_xlfn.XLOOKUP(B9,FY26_FE_Data_April15[ID],FY26_FE_Data_April15[FY25 ADM - K-12 + SC],0,0) -> 3154.7778 | V9: =T9/U9 -> 3650.2359 | W9: =IF(V9>0,ROUND(V9/2,2),0) -> 1825.12
A10: 006 | B10: 6 | C10: Daggett | D10: 6065843 | E10: 420441 | F10: 0 | G10: 0 | H10: 22850 | I10: 62496 | J10: 0 | K10: =D10+E10-H10-I10-J10 -> 6400938 | L10: 1513442 | M10: =VALTAX26!D15+VALTAX26!E15+VALTAX26!H15 -> 0.002746 | N10: =(VALTAX26!D15/AFRAPR!M10)*AFRAPR!L10 -> 760027.87 | O10: 3491467 | P10: 274419 | Q10: 50000 | R10: 0 | S10: =SUM(N10:R10) -> 4575913.9 | T10: =K10-S10 -> 1825024.1 | U10: =_xlfn.XLOOKUP(B10,FY26_FE_Data_April15[ID],FY26_FE_Data_April15[FY25 ADM - K-12 + SC],0,0) -> 157.72222 | V10: =T10/U10 -> 11571.129 | W10: =IF(V10>0,ROUND(V10/2,2),0) -> 5785.56
A11: 007 | B11: 7 | C11: Davis | D11: 7.6528678e+08 | E11: 2.0783479e+08 | F11: 0 | G11: 1500000 | H11: 433194.64 | I11: 0 | J11: 1.831261e+08 | K11: =D11+E11-H11-I11-J11 -> 7.8956228e+08 | L11: 1.7551597e+08 | M11: =VALTAX26!D16+VALTAX26!E16+VALTAX26!H16 -> 0.004094 | N11: =(VALTAX26!D16/AFRAPR!M11)*AFRAPR!L11 -> 59119817 | O11: 5.4233968e+08 | P11: 37595690 | Q11: 656071.15 | R11: 0 | S11: =SUM(N11:R11) -> 6.3971126e+08 | T11: =K11-S11 -> 1.4985102e+08 | U11: =_xlfn.XLOOKUP(B11,FY26_FE_Data_April15[ID],FY26_FE_Data_April15[FY25 ADM - K-12 + SC],0,0) -> 68576.311 | V11: =T11/U11 -> 2185.1718 | W11: =IF(V11>0,ROUND(V11/2,2),0) -> 1092.59
A12: 008 | B12: 8 | C12: Duchesne | D12: 66317893 | E12: 24741960 | F12: 2248323.9 | G12: 4251718.6 | H12: 0 | I12: 0 | J12: 17878142 | K12: =D12+E12-H12-I12-J12 -> 73181711 | L12: 16897873 | M12: =VALTAX26!D17+VALTAX26!E17+VALTAX26!H17 -> 0.003636 | N12: =(VALTAX26!D17/AFRAPR!M12)*AFRAPR!L12 -> 6408736.7 | O12: 45119796 | P12: 3309179.2 | Q12: 4834937.4 | R12: 0 | S12: =SUM(N12:R12) -> 59672649 | T12: =K12-S12 -> 13509061 | U12: =_xlfn.XLOOKUP(B12,FY26_FE_Data_April15[ID],FY26_FE_Data_April15[FY25 ADM - K-12 + SC],0,0) -> 4932.9444 | V12: =T12/U12 -> 2738.5391 | W12: =IF(V12>0,ROUND(V12/2,2),0) -> 1369.27
A13: 009 | B13: 9 | C13: Emery | D13: 42285439 | E13: 942946 | F13: 0 | G13: 0 | H13: 0 | I13: 0 | J13: 350393 | K13: =D13+E13-H13-I13-J13 -> 42877992 | L13: 12289897 | M13: =VALTAX26!D18+VALTAX26!E18+VALTAX26!H18 -> 0.005282 | N13: =(VALTAX26!D18/AFRAPR!M13)*AFRAPR!L13 -> 3208589.2 | O13: 23044446 | P13: 1282033 | Q13: 0 | R13: 0 | S13: =SUM(N13:R13) -> 27535068 | T13: =K13-S13 -> 15342924 | U13: =_xlfn.XLOOKUP(B13,FY26_FE_Data_April15[ID],FY26_FE_Data_April15[FY25 ADM - K-12 + SC],0,0) -> 1933.5722 | V13: =T13/U13 -> 7935.0146 | W13: =IF(V13>0,ROUND(V13/2,2),0) -> 3967.51
A14: 010 | B14: 10 | C14: Garfield | D14: 19519193 | E14: 4859972 | F14: 210648 | G14: 1325705 | H14: 17173 | I14: 0 | J14: 3050070 | K14: =D14+E14-H14-I14-J14 -> 21311922 | L14: 3734784 | M14: =VALTAX26!D19+VALTAX26!E19+VALTAX26!H19 -> 0.003379 | N14: =(VALTAX26!D19/AFRAPR!M14)*AFRAPR!L14 -> 1524198.6 | O14: 17846827 | P14: 635382 | Q14: 234672 | R14: 10820 | S14: =SUM(N14:R14) -> 20251900 | T14: =K14-S14 -> 1060022.4 | U14: =_xlfn.XLOOKUP(B14,FY26_FE_Data_April15[ID],FY26_FE_Data_April15[FY25 ADM - K-12 + SC],0,0) -> 1500.9 | V14: =T14/U14 -> 706.25783 | W14: =IF(V14>0,ROUND(V14/2,2),0) -> 353.13
A15: 011 | B15: 11 | C15: Grand | D15: 24496900 | E15: 7233026.4 | F15: 1222252.2 | G15: 1190000 | H15: 0 | I15: 0 | J15: 4097259.9 | K15: =D15+E15-H15-I15-J15 -> 27632667 | L15: 14773788 | M15: =VALTAX26!D20+VALTAX26!E20+VALTAX26!H20 -> 0.003768 | N15: =(VALTAX26!D20/AFRAPR!M15)*AFRAPR!L15 -> 5406861.4 | O15: 9140538.2 | P15: 1529560.2 | Q15: 0 | R15: 0 | S15: =SUM(N15:R15) -> 16076960 | T15: =K15-S15 -> 11555707 | U15: =_xlfn.XLOOKUP(B15,FY26_FE_Data_April15[ID],FY26_FE_Data_April15[FY25 ADM - K-12 + SC],0,0) -> 1361.0722 | V15: =T15/U15 -> 8490.1499 | W15: =IF(V15>0,ROUND(V15/2,2),0) -> 4245.07
A16: 012 | B16: 12 | C16: Granite | D16: 6.7577125e+08 | E16: 1.049858e+08 | F16: 40532.01 | G16: 365969.2 | H16: 499122.18 | I16: 0 | J16: 79115228 | K16: =D16+E16-H16-I16-J16 -> 7.011427e+08 | L16: 1.9604844e+08 | M16: =VALTAX26!D21+VALTAX26!E21+VALTAX26!H21 -> 0.0036 | N16: =(VALTAX26!D21/AFRAPR!M16)*AFRAPR!L16 -> 75097446 | O16: 4.2117754e+08 | P16: 45601525 | Q16: 1908047.8 | R16: 8053505.7 | S16: =SUM(N16:R16) -> 5.5183806e+08 | T16: =K16-S16 -> 1.4930464e+08 | U16: =_xlfn.XLOOKUP(B16,FY26_FE_Data_April15[ID],FY26_FE_Data_April15[FY25 ADM - K-12 + SC],0,0) -> 55278.978 | V16: =T16/U16 -> 2700.9298 | W16: =IF(V16>0,ROUND(V16/2,2),0) -> 1350.46
... A45: 042 | B45: 42 | C45: Canyons | D45: 3.9222523e+08 | E45: 1.0372713e+08 | F45: 5612478.7 | G45: 3525663.8 | H45: 59517568 | I45: 10178410 | J45: 14865848 | K45: =D45+E45-H45-I45-J45 -> 4.1139054e+08 | L45: 1.4695769e+08 | M45: =VALTAX26!D50+VALTAX26!E50+VALTAX26!H50 -> 0.003716 | N45: =(VALTAX26!D50/AFRAPR!M45)*AFRAPR!L45 -> 54535697 | O45: 2.0731116e+08 | P45: 18814122 | Q45: 2312836.6 | R45: 0 | S45: =SUM(N45:R45) -> 2.8297382e+08 | T45: =K45-S45 -> 1.2841672e+08 | U45: =_xlfn.XLOOKUP(B45,FY26_FE_Data_April15[ID],FY26_FE_Data_April15[FY25 ADM - K-12 + SC],0,0) -> 31835.772 | V45: =T45/U45 -> 4033.724 | W45: =IF(V45>0,ROUND(V45/2,2),0) -> 2016.86
D46: =SUM(D5:D45) -> 6.7165643e+09 | E46: =SUM(E5:E45) -> 1.5665501e+09 | F46: =SUM(F5:F45) -> 58018240 | G46: =SUM(G5:G45) -> 80825225 | H46: =SUM(H5:H45) -> 1.0416431e+08 | I46: =SUM(I5:I45) -> 2.5477113e+08 | J46: =SUM(J5:J45) -> 8.4562732e+08 | K46: =SUM(K5:K45) -> 7.0785516e+09 | L46: =SUM(L5:L45) -> 1.9846801e+09 | M46: =AVERAGE(M5:M45) -> 0.0035249268 | N46: =SUM(N5:N45) -> 7.8188584e+08 | O46: =SUM(O5:O45) -> 4.3666381e+09 | P46: =SUM(P5:P45) -> 3.220182e+08 | Q46: =SUM(Q5:Q45) -> 86707920 | R46: =SUM(R5:R45) -> 15654397 | S46: =SUM(S5:S45) -> 5.5729045e+09 | T46: =SUM(T5:T45) -> 1.5056472e+09 | U46: =SUM(U5:U45) -> 576537.05 | V46: =MEDIAN(V5:V45) -> 2994.4708 | W46: =AVERAGE(W5:W45) -> 1830.068
D48: General Fund 10 less local replacement (5619) | E48: Fund 32 Less Local Replacement (5619) | F48: Fund 32 Func 5* Obj 83* Not Used? | G48: Fund 32 Func 5* Obj 84* Not Used? | H48: Fund 32 Func 4* Obj 710 | I48: Fund 32 Func 4* Obj 720 | J48: Fund 32 Func 4* Obj 450 | L48: Fund 10 Revenue 1100s Property Taxes | M48: VALTAX | N48: VALTAX | O48: Fund 10 Rev 3* | P48: Fund 10 Rev 4* | Q48: Fund 32 Rev 3* | R48: Fund 32 Rev 4*

Sheet VALTAX26
B1: Estimated Assessed Valuations and Final Approved School District Tax Rates
B2: (Source: Utah State Tax Commission, Property Tax Division)
B3: Tax Year 2025 - FY 2025-26
B4: Statutory Maximum | E4: 0.0025 | G4: 0.003 | H4: 0.002 | I4: None
B5: USTC Budget Code | D5: 210 | E5: 525 | F5: 527 | G5: 246 | H5: 510 | I5: 230 | J5: 190 | K5: Total | M5: Total
C6: ***Initial | D6: Required Basic | E6: Board | F6: Charter | G6: Capital | H6: Voted | I6: Debt | J6: Discharge | K6: TY2024-25 | M6: Rate
B7: District | C7: Values Adj. for | D7: State-Supported | E7: Local Levy | F7: School Levy | G7: Local | H7: Local | I7: Service**** | J7: of | K7: Total Final | M7: W/O Charter
C8: RDA & BOE | D8: Program | G8: Levy | H8: Levy | J8: Judgement | K8: Local School | M8: Local Levy
C9: November 2024 | D9: 53F-2-301.5** | E9: 53F-8-302** | F9: 53F-2-703,704 | G9: 53F-8-303** | H9: 53F-8-301** | I9: 11-14-310** | J9: 59-2-1330** | K9: District Levy
A10: 1 | B10: Alpine | C10: 61247296364 | D10: 0.001379 | E10: 0.000977 | F10: 9.3e-05 | G10: 0.001729 | H10: 0.001152 | I10: 0.000444 | J10: 0 | K10: =+SUM(D10:J10) -> 0.005774 | M10: =K10-F10 -> 0.005681
A11: 2 | B11: Beaver | C11: 1630411251 | D11: 0.001379 | E11: 0.001705 | F11: 2e-06 | G11: 0.000925 | H11: 0.000853 | I11: 0.000326 | J11: 0 | K11: =+SUM(D11:J11) -> 0.00519 | M11: =K11-F11 -> 0.005188
A12: 3 | B12: Box Elder | C12: 8597963778 | D12: 0.001379 | E12: 0.00221 | F12: 5.3e-05 | G12: 0.002368 | H12: 0.00054 | I12: 0.000428 | J12: 0 | K12: =+SUM(D12:J12) -> 0.006978 | M12: =K12-F12 -> 0.006925
A13: 4 | B13: Cache | C13: 12161551799 | D13: 0.001379 | E13: 0.000711 | F13: 3.5e-05 | G13: 0.000423 | H13: 0.000762 | I13: 0.001326 | J13: 0 | K13: =+SUM(D13:J13) -> 0.004636 | M13: =K13-F13 -> 0.004601
A14: 5 | B14: Carbon | C14: 2556730265 | D14: 0.001379 | E14: 0.002038 | F14: 0.000101 | G14: 0.001437 | H14: 0.0011 | I14: 0.001042 | J14: 0 | K14: =+SUM(D14:J14) -> 0.007097 | M14: =K14-F14 -> 0.006996
A15: 6 | B15: Daggett | C15: 543618703 | D15: 0.001379 | E15: 0.001367 | F15: 0 | G15: 0.000684 | H15: 0 | I15: 0.000249 | J15: 0 | K15: =+SUM(D15:J15) -> 0.003679 | M15: =K15-F15 -> 0.003679
A16: 7 | B16: Davis | C16: 44631657076 | D16: 0.001379 | E16: 0.001306 | F16: 7.9e-05 | G16: 0.000518 | H16: 0.001409 | I16: 0.001615 | J16: 0 | K16: =+SUM(D16:J16) -> 0.006306 | M16: =K16-F16 -> 0.006227
A17: 8 | B17: Duchesne | C17: 4566450496 | D17: 0.001379 | E17: 0.001091 | F17: 3.1e-05 | G17: 0.002502 | H17: 0.001166 | I17: 0.001252 | J17: 0 | K17: =+SUM(D17:J17) -> 0.007421 | M17: =K17-F17 -> 0.00739
A18: 9 | B18: Emery | C18: 2155778876 | D18: 0.001379 | E18: 0.002193 | F18: 2.6e-05 | G18: 0.001152 | H18: 0.00171 | I18: 0.002211 | J18: 0 | K18: =+SUM(D18:J18) -> 0.008671 | M18: =K18-F18 -> 0.008645
A19: 10 | B19: Garfield | C19: 1204482674 | D19: 0.001379 | E19: 0.0007 | F19: 0 | G19: 0.00225 | H19: 0.0013 | I19: 0 | J19: 0 | K19: =+SUM(D19:J19) -> 0.005629 | M19: =K19-F19 -> 0.005629
A20: 11 | B20: Grand | C20: 3986040280 | D20: 0.001379 | E20: 0.001507 | F20: 4.2e-05 | G20: 0.001344 | H20: 0.000882 | I20: 0.000559 | J20: 0 | K20: =+SUM(D20:J20) -> 0.005713 | M20: =K20-F20 -> 0.005671
A21: 12 | B21: Granite | C21: 53371491285 | D21: 0.001379 | E21: 0.001514 | F21: 0.000142 | G21: 0.001484 | H21: 0.000707 | I21: 0.000634 | J21: 0 | K21: =+SUM(D21:J21) -> 0.00586 | M21: =K21-F21 -> 0.005718
... A50: 42 | B50: Canyons | C50: 39681302772 | D50: 0.001379 | E50: 0.001156 | F50: 5.6e-05 | G50: 0.000716 | H50: 0.001181 | I50: 0.001168 | J50: 0 | K50: =+SUM(D50:J50) -> 0.005656 | M50: =K50-F50 -> 0.0056
B51: Total | C51: =SUM(C10:C50) -> 583324806979
B52: Average Levies | D52: =AVERAGE(D10:D50) -> 0.001379 | E52: =AVERAGE(E10:E50) -> 0.0012205366 | F52: =AVERAGE(F10:F50) -> 4.9731707e-05 | G52: =AVERAGE(G10:G50) -> 0.0011598049 | H52: =AVERAGE(H10:H50) -> 0.00092539024 | I52: =AVERAGE(I10:I50) -> 0.00072102439 | J52: =AVERAGE(J10:J50) -> 1.5853659e-06 | K52: =AVERAGE(K10:K50) -> 0.0054570732 | M52: =AVERAGE(M10:M51) -> 0.0054073415
B53: *From initial Roll Values from the State Tax Commission with estimated fees-in-lieu, less adjustments calculated from estimated redevelopment increment data from
B54: redevelopment agencies.
B55: **Section of Utah Code 2018 that authorizes levy.
B56: ***Adjusted for redevelopment & board of equalization
B57: ****General Obligation Bond Debt

Sheet Data Table 4.15.2026
A1: ID | B1: Phase | C1: LEA Name | D1: Type | E1: In Operation in FY25? | F1: In Operation in FY26? | G1: In Operation in FY27 | H1: FY22ADM - SPED Resource | I1: FY22ADM - SPED Self-Contained | J1: FY22 ADM - Total SPED | K1: Oct 1, 2022 - K | L1: Oct 1, 2022 - Grades 1-6 | M1: Oct 1, 2022 - Grades 7-8 | N1: Oct 1, 2022 - Grades 9-12 | O1: Oct 1, 2022 - Grades K-12 | P1: Oct 1, 2022 - Grades 1-12 | Q1: Oct 1, 2022 - Grades K-8 | R1: Oct 1, 2022 - Self-Contained | S1: FY23 ADM - K | T1: FY23 ADM - Grade 1 | U1: FY23 ADM - Grade 2 | V1: FY23 ADM - Grade 3 | W1: FY23 ADM - Grade 4 | X1: FY23 ADM - Grade 5 | Y1: FY23 ADM - Grade 6 | Z1: FY23 ADM - Grade 7 | AA1: FY23 ADM - Grade 8 | AB1: FY23 ADM - Grade 9 | AC1: FY23 ADM - Grade 10 | AD1: FY23 ADM - Grade 11 | AE1: FY23 ADM - Grade 12 | AF1: FY23 ADM - Grades 1-6 | AG1: FY23 ADM - Grades 7-8 | AH1: FY23 ADM - Grades 9-12 | AI1: FY23 ADM - Grades K-8 | AJ1: FY23 ADM - Grades 1-12 | AK1: FY23 ADM - Grades K-12 | AL1: FY23 ADM - SPED Resource | AM1: FY23 ADM - SPED Self-Contained | AN1: FY23 ADM - Total SPED | AO1: FY23 ADM - K-12 + SC | AP1: Oct. 1, 2023 - K | AQ1: Oct. 1, 2023 - Grade 1 | AR1: Oct. 1, 2023 - Grade 2 | AS1: Oct. 1, 2023 - Grade 3 | AT1: Oct. 1, 2023 - Grade 4 | AU1: Oct. 1, 2023 - Grade 5 | AV1: Oct. 1, 2023 - Grade 6 | AW1: Oct. 1, 2023 - Grade 7 | AX1: Oct. 1, 2023 - Grade 8 | AY1: Oct. 1, 2023 - Grade 9 | AZ1: Oct. 1, 2023 - Grade 10 | BA1: Oct. 1, 2023 - Grade 11 | BB1: Oct. 1, 2023 - Grade 12 | BC1: Oct. 1, 2023 - Grades 1-6 | BD1: Oct. 1, 2023 - Grades 7-8 | BE1: Oct. 1, 2023 - Grades 9-12 | BF1: Oct. 1, 2023 - Grades K-8 | BG1: Oct. 1, 2023 - Grades 1-12 | BH1: Oct. 1, 2023 - Grades K-12 | BI1: Oct. 1, 2023 - FDK Counts | BJ1: Oct. 1, 2023 - HDK Counts | BK1: Oct. 1, 2023 - Foreign Exchange | BL1: Oct. 1, 2023 - Econ. Disadv. | BM1: Oct. 1, 2023 - SPED Resource | BN1: Oct. 1, 2023 - SPED Self-Contained | BO1: Oct. 1, 2023 - Total SPED | BP1: Oct. 1, 2023 - LEP | BQ1: Prostaff Ratios | BR1: ESA - All - FY24 | BS1: ESA - Educators Only - FY24 | BT1: TSM FTE - FY24 | BU1: Educ. Prof. Hrs. FTE - FY24 | BV1: Oct 1 2020 Counts - Online Students >180 Days | BW1: Oct 1 2023 Counts - Online Students >180 Days in FY2023/Still Online on Oct 1 | BX1: FY23 ADM - Online Students >180 Days | BY1: FY24 ADM - Half Day K | BZ1: FY24 ADM - Full Day K | CA1: FY24 ADM - Total K | CB1: FY24 ADM - Grade 1 | CC1: FY24 ADM - Grade 2 | CD1: FY24 ADM - Grade 3 | CE1: FY24 ADM - Grade 4 | CF1: FY24 ADM - Grade 5 | CG1: FY24 ADM - Grade 6 | CH1: FY24 ADM - Grade 7 | CI1: FY24 ADM - Grade 8 | CJ1: FY24 ADM - Grade 9 | CK1: FY24 ADM - Grade 10 | CL1: FY24 ADM - Grade 11 | CM1: FY24 ADM - Grade 12 | CN1: FY24 ADM - Grades 1-6 | CO1: FY24 ADM - Grades 7-8 | CP1: FY24 ADM - Grades 9-12 | CQ1: FY24 ADM - Grades K-8 | CR1: FY24 ADM - Grades 1-12 | CS1: FY24 ADM - Grades K-12 | CT1: FY24 ADM - SPED Resource | CU1: FY24 ADM - SPED Self-Contained | CV1: FY24 ADM - Total SPED | CW1: FY24 ADM - K-12 + SC | CX1: FY24 ADM - Online Students - Online All 180 Days | CY1: Oct. 1, 2024 - FDK | CZ1: Oct. 1, 2024 - HDK | DA1: Oct. 1, 2024 - Total K | DB1: Oct. 1, 2024 - Grade 1 | DC1: Oct. 1, 2024 - Grade 2 | DD1: Oct. 1, 2024 - Grade 3 | DE1: Oct. 1, 2024 - Grade 4 | DF1: Oct. 1, 2024 - Grade 5 | DG1: Oct. 1, 2024 - Grade 6 | DH1: Oct. 1, 2024 - Grade 7 | DI1: Oct. 1, 2024 - Grade 8 | DJ1: Oct. 1, 2024 - Grade 9 | DK1: Oct. 1, 2024 - Grade 10 | DL1: Oct. 1, 2024 - Grade 11 | DM1: Oct. 1, 2024 - Grade 12 | DN1: Oct. 1, 2024 - Grades 1-6 | DO1: Oct. 1, 2024 - Grades 7-8 | DP1: Oct. 1, 2024 - Grades 9-12 | DQ1: Oct. 1, 2024 - Grades K-8 | DR1: Oct. 1, 2024 - Grades 1-12 | DS1: Oct. 1, 2024 - Grades K-12 | DT1: Oct. 1, 2024 - Foreign Exchange | DU1: Oct. 1, 2024 - Econ. Disadv. | DV1: Oct. 1, 2024 - SPED Resource | DW1: Oct. 1, 2024 - SPED Self-Contained | DX1: Oct. 1, 2024 - Total SPED | DY1: Oct. 1, 2024 - K12+SC | DZ1: Oct. 1, 2024 - LEP | EA1: ESA - All - FY25 | EB1: ESA - Educators Only - FY25 | EC1: TSM FTE - Elementary - FY25 | ED1: TSM FTE - Secondary - FY25 | EE1: TSM FTE - Reg. Pre-K - FY25 | EF1: Educ. Prof. Hrs. FTE - FY25 | EG1: ProStaff Ratios - FY24 YE | EH1: Oct 1 2024 Counts - Online Students >=180 Days in FY2024/Still Online on Oct 1 | EI1: Oct 1, 2025 (CDC) - K | EJ1: Oct 1, 2025 (CDC) - Grades 1-12 | EK1: Oct 1, 2025 (CDC) - Grades 1-6 | EL1: Oct 1, 2025 (CDC) - Grades 7-8 | EM1: Oct 1, 2025 (CDC) - Grades 9-12 | EN1: Oct 1, 2025 (CDC) - Grades K-12 | EO1: December 1, 2024 - SPED Pre-K 3-5 Count | EP1: December 1, 2024 - SPED K-12 | EQ1: December 1, 2024 - SPED PreK-12 - All Ages | ER1: December 1, 2024 - SPED Resource | ES1: December 1, 2024 - SPED Self-Contained | ET1: FY24 ESY Count | EU1: FY24 Classified FTE: Instructional Paraprofessionals | EV1: FY24 Classified FTE: Library Paraprofessionals | EW1: FY24 Classified FTE: School Support | EX1: FY24 Classified FTE: Student Support | EY1: FY24 Classified FTE: Other Support Staff | EZ1: FY24 Classified FTE: All Qualifying FTE | FA1: FY25 ADM - Half Day K | FB1: FY25 ADM - Full Day K | FC1: FY25 ADM - Total K | FD1: FY25 ADM - Grade 1 | FE1: FY25 ADM - Grade 2 | FF1: FY25 ADM - Grade 3 | FG1: FY25 ADM - Grade 4 | FH1: FY25 ADM - Grade 5 | FI1: FY25 ADM - Grade 6 | FJ1: FY25 ADM - Grade 7 | FK1: FY25 ADM - Grade 8 | FL1: FY25 ADM - Grade 9 | FM1: FY25 ADM - Grade 10 | FN1: FY25 ADM - Grade 11 | FO1: FY25 ADM - Grade 12 | FP1: FY25 ADM - Grades 1-6 | FQ1: FY25 ADM - Grades 7-8 | FR1: FY25 ADM - Grades 9-12 | FS1: FY25 ADM - Grades K-8 | FT1: FY25 ADM - Grades 1-12 | FU1: FY25 ADM - Grades K-12 | FV1: FY25 ADM - SPED Resource | FW1: FY25 ADM - SPED Self-Contained | FX1: FY25 ADM - Total SPED | FY1: FY25 ADM - K-12 + SC | FZ1: Oct. 1, 2025 - HDK | GA1: Oct. 1, 2025 - FDK | GB1: Oct. 1, 2025 - Total K | GC1: Oct. 1, 2025 - Grade 1 | GD1: Oct. 1, 2025 - Grade 2 | GE1: Oct. 1, 2025 - Grade 3 | GF1: Oct. 1, 2025 - Grade 4 | GG1: Oct. 1, 2025 - Grade 5 | GH1: Oct. 1, 2025 - Grade 6 | GI1: Oct. 1, 2025 - Grade 7 | GJ1: Oct. 1, 2025 - Grade 8 | GK1: Oct. 1, 2025 - Grade 9 | GL1: Oct. 1, 2025 - Grade 10 | GM1: Oct. 1, 2025 - Grade 11 | GN1: Oct. 1, 2025 - Grade 12 | GO1: Oct. 1, 2025 - Grades 1-6 | GP1: Oct. 1, 2025 - Grades 7-8 | GQ1: Oct. 1, 2025 - Grades 9-12 | GR1: Oct. 1, 2025 - Grades K-8 | GS1: Oct. 1, 2025 - Grades 1-12 | GT1: Oct. 1, 2025 - Grades K-12 | GU1: Oct. 1, 2025 - Foreign Exchange | GV1: Oct. 1, 2025 - Econ. Disadv. | GW1: Oct. 1, 2025 - SPED Resource | GX1: Oct. 1, 2025 - SPED Self-Contained | GY1: Oct. 1, 2025 - Total SPED | GZ1: Oct. 1, 2025 - K-12 +SC | HA1: Oct. 1, 2025 - LEP | HB1: ESA - All - FY26 | HC1: ESA - Educators Only - FY26 | HD1: TSM FTE - Elementary - FY26 | HE1: TSM FTE - Secondary - FY26 | HF1: TSM FTE - Reg. Pre-K - FY26 | HG1: Educ. Prof. Hrs. FTE - FY26 | HH1: December 1, 2025 - SPED Pre-K 3-5 Total | HI1: December 1, 2025 - SPED K-12 | HJ1: December 1, 2025 - SPED PreK-12 - All Ages | HK1: December 1, 2025 - SPED Resource | HL1: December 1, 2025 - SPED Self-Contained | HM1: FY25 ESY Count | HN1: Oct 1, 2026 (CDC) - K | HO1: Oct 1, 2026 (CDC) - Grades 1-12 | HP1: Oct 1, 2026 (CDC) - Grades 1-6 | HQ1: Oct 1, 2026 (CDC) - Grades 7-8 | HR1: Oct 1, 2026 (CDC) - Grades 9-12 | HS1: Oct 1, 2026 (CDC) - Grades K-12 | HT1: Oct 1, 2026 (CDC) - Grades K-8 | HU1: FY25 ADM - Online Students - Online All 180 Days
A2: 1 | B2: 010 | C2: Alpine School District | D2: District | E2: Yes | F2: Yes | H2: 6976.2333 | I2: 1584.7278 | J2: 8560.9611 | K2: 5738 | L2: 37703 | M2: 13519 | N2: 27706 | O2: 84666 | P2: 78928 | Q2: 56960 | R2: 1484 | S2: 5611.5833 | T2: 6203.1556 | U2: 6133.1611 | V2: 6039.7778 | W2: 6224.9889 | X2: 6179.3889 | Y2: 6201.1333 | Z2: 6599.9444 | AA2: 6694.3444 | AB2: 6778.8611 | AC2: 7091.3556 | AD2: 6596.4167 | AE2: 5788.6944 | AF2: 36981.606 | AG2: 13294.289 | AH2: 26255.328 | AI2: 55887.478 | AJ2: 76531.222 | AK2: 82142.806 | AL2: 7415.7333 | AM2: 1644.0556 | AN2: 9059.7889 | AO2: 83786.861 | AP2: 5514 | AQ2: 5789 | AR2: 6303 | AS2: 6262 | AT2: 6151 | AU2: 6391 | AV2: 6333 | AW2: 6727 | AX2: 6839 | AY2: 6960 | AZ2: 7302 | BA2: 7272 | BB2: 6867 | BC2: 37229 | BD2: 13566 | BE2: 28401 | BF2: 56309 | BG2: 79196 | BH2: 84710 | BI2: 2456 | BJ2: 3058 | BK2: 50 | BL2: 18369 | BM2: 7750 | BN2: 1707 | BO2: 9457 | BP2: 4859 | BQ2: 0.082795505 | BR2: 4244.267 | BS2: 4031.267 | BT2: 3763.1394 | BU2: 4153.4164 | BV2: 251 | BW2: 26 | BX2: 1686.7833 | BY2: 2930.1444 | BZ2: 2450.6889 | CA2: 5380.8333 | CB2: 5702.3056 | CC2: 6176.4833 | CD2: 6127.5 | CE2: 6026.8444 | CF2: 6270.3667 | CG2: 6217.7 | CH2: 6604.7556 | CI2: 6719.7722 | CJ2: 6810.4556 | CK2: 7122.7333 | CL2: 7028.8389 | CM2: 5858.8056 | CN2: 36521.2 | CO2: 13324.528 | CP2: 26820.833 | CQ2: 55226.561 | CR2: 76666.561 | CS2: 82047.394 | CT2: 7661.65 | CU2: 1690.6056 | CV2: 9352.2556 | CW2: 83738 | CX2: 1734.5722 | CY2: 5171 | CZ2: 264 | DA2: 5435 | DB2: 5655 | DC2: 5877 | DD2: 6358 | DE2: 6326 | DF2: 6248 | DG2: 6522 | DH2: 6847 | DI2: 6832 | DJ2: 6942 | DK2: 7223 | DL2: 7251 | DM2: 7241 | DN2: 36986 | DO2: 13679 | DP2: 28657 | DQ2: 56100 | DR2: 79322 | DS2: 84757 | DT2: 58 | DU2: 16760 | DV2: 7822 | DW2: 1736 | DX2: 9558 | DY2: 86493 | DZ2: 4917 | EA2: 4326.752 | EB2: 4113.752 | EC2: 1890.559 | ED2: 1669.714 | EE2: 9.333 | EF2: 4396.838 | EG2: 0.084767337 | EI2: 5380 | EJ2: 78520 | EN2: 83900 | EO2: 1113 | EP2: 9587 | EQ2: 10700 | ER2: 7854 | ES2: 1733 | ET2: 330 | EU2: 11.625 | EV2: 73 | EW2: 182.72 | EX2: 149.3 | EY2: 260.938 | EZ2: 677.583 | FA2: 225.15556 | FB2: 5075.9667 | FC2: 5301.1222 | FD2: 5496.8889 | FE2: 5755.9389 | FF2: 6227.2111 | FG2: 6204.5722 | FH2: 6120.1667 | FI2: 6401.0389 | FJ2: 6678.9667 | FK2: 6686.2056 | FL2: 6791.1889 | FM2: 7064.7944 | FN2: 7039.8611 | FO2: 6166.8833 | FP2: 36205.817 | FQ2: 13365.172 | FR2: 27062.728 | FS2: 54872.111 | FT2: 76633.717 | FU2: 81934.839 | FV2: 7829.1222 | FW2: 1725.2667 | FX2: 9554.3889 | FY2: 83660.106 | FZ2: 757 | GA2: 4699 | GB2: 5456 | GC2: 5501 | GD2: 5626 | GE2: 5954 | GF2: 6383 | GG2: 6354 | GH2: 6287 | GI2: 7039 | GJ2: 6859 | GK2: 6919 | GL2: 7259 | GM2: 7249 | GN2: 7329 | GO2: 36105 | GP2: 13898 | GQ2: 28756 | GR2: 55459 | GS2: 78759 | GT2: 84215 | GU2: 50 | GV2: 16670 | GW2: 8046 | GX2: 1769 | GY2: 9815 | GZ2: 85984 | HA2: 4849 | HB2: 4371.091 | HC2: 4145.091 | HD2: 1914.448 | HE2: 1686.107 | HG2: 4411.213 | HH2: 981 | HI2: 9810 | HJ2: 10791 | HK2: 8076 | HL2: 1734 | HM2: 301 | HN2: 5377 | HO2: 77623 | HP2: 0 | HQ2: 0 | HR2: 0 | HS2: 83000 | HT2: =FY26_FE_Data_April15[[#This Row],[Oct 1, 2026 (CDC) - K]]+FY26_FE_Data_April15[[#This Row],[Oct 1, 2026 (CDC) - Grades 1-6]]+FY26_FE_Data_April15[[#This Row],[Oct 1, 2026 (CDC) - Grades 7-8]] -> 5377 | HU2: 1765.5722
A3: 2 | B3: 020 | C3: Beaver Co School District | D3: District | E3: Yes | F3: Yes | H3: 201.9 | I3: 19.711111 | J3: 221.61111 | K3: 102 | L3: 672 | M3: 247 | N3: 486 | O3: 1507 | P3: 1405 | Q3: 1021 | R3: 21 | S3: 102.63889 | T3: 117.03889 | U3: 105.44444 | V3: 111.28889 | W3: 114.83333 | X3: 109.15556 | Y3: 108.29444 | Z3: 128.25556 | AA3: 114.07222 | AB3: 138.60556 | AC3: 101.6 | AD3: 106.8 | AE3: 110.68333 | AF3: 666.05556 | AG3: 242.32778 | AH3: 457.68889 | AI3: 1011.0222 | AJ3: 1366.0722 | AK3: 1468.7111 | AL3: 208.84444 | AM3: 20.805556 | AN3: 229.65 | AO3: 1489.5167 | AP3: 102 | AQ3: 103 | AR3: 121 | AS3: 107 | AT3: 114 | AU3: 115 | AV3: 112 | AW3: 110 | AX3: 127 | AY3: 115 | AZ3: 139 | BA3: 97 | BB3: 106 | BC3: 672 | BD3: 237 | BE3: 457 | BF3: 1011 | BG3: 1366 | BH3: 1468 | BI3: 100 | BJ3: 2 | BK3: 0 | BL3: 738 | BM3: 205 | BN3: 16 | BO3: 221 | BP3: 28 | BQ3: 0.083648213 | BR3: 94.15 | BS3: 89.52 | BT3: 88.52 | BU3: 95.15 | BV3: 92 | BW3: 66 | BX3: 106.80555 | BY3: 0.627777 | BZ3: 100.53889 | CA3: 101.16667 | CB3: 101.04444 | CC3: 119.33333 | CD3: 106.80556 | CE3: 112.35 | CF3: 115.41111 | CG3: 107.11111 | CH3: 107.79444 | CI3: 127.25 | CJ3: 110.36111 | CK3: 136.5 | CL3: 93.133333 | CM3: 95.266667 | CN3: 662.05556 | CO3: 235.04444 | CP3: 435.26111 | CQ3: 998.26667 | CR3: 1332.3611 | CS3: 1433.5278 | CT3: 211.18333 | CU3: 16.505556 | CV3: 227.68889 | CW3: 1450.0333 | CX3: 0 | CY3: 95 | CZ3: 1 | DA3: 96 | DB3: 98 | DC3: 106 | DD3: 119 | DE3: 113 | DF3: 110 | DG3: 115 | DH3: 111 | DI3: 105 | DJ3: 129 | DK3: 108 | DL3: 135 | DM3: 89 | DN3: 661 | DO3: 216 | DP3: 461 | DQ3: 973 | DR3: 1338 | DS3: 1434 | DT3: 0 | DU3: 663 | DV3: 207 | DW3: 20 | DX3: 227 | DY3: 1454 | DZ3: 23 | EA3: 95.4 | EB3: 90.78 | EC3: 46.286 | ED3: 33.961 | EE3: 0 | EF3: 98.633 | EG3: 0.084503109 | EI3: 95 | EJ3: 1325 | EN3: 1420 | EO3: 22 | EP3: 236 | EQ3: 258 | ER3: 215 | ES3: 21 | ET3: 34 | EU3: 42.12 | EV3: 4.54 | EW3: 6.5 | EX3: 2 | EY3: 24.5 | EZ3: 79.66 | FA3: 2 | FB3: 89.816667 | FC3: 91.816667 | FD3: 97.566667 | FE3: 106.95 | FF3: 116.17222 | FG3: 109.43333 | FH3: 110.6 | FI3: 114.27778 | FJ3: 105.51111 | FK3: 102.93333 | FL3: 126.78333 | FM3: 102.12778 | FN3: 128.05 | FO3: 83.616667 | FP3: 655 | FQ3: 208.44444 | FR3: 440.57778 | FS3: 955.26111 | FT3: 1304.0222 | FU3: 1395.8389 | FV3: 216.81667 | FW3: 21.15 | FX3: 237.96667 | FY3: 1416.9889 | FZ3: 0 | GA3: 89 | GB3: 89 | GC3: 93 | GD3: 105 | GE3: 108 | GF3: 117 | GG3: 120 | GH3: 117 | GI3: 121 | GJ3: 109 | GK3: 107 | GL3: 126 | GM3: 102 | GN3: 138 | GO3: 660 | GP3: 230 | GQ3: 473 | GR3: 979 | GS3: 1363 | GT3: 1452 | GU3: 0 | GV3: 675 | GW3: 232 | GX3: 22 | GY3: 254 | GZ3: 1474 | HA3: 21 | HB3: 95.203 | HC3: 90.583 | HD3: 46.166 | HE3: 35.022 | HG3: 99.433 | HH3: 19 | HI3: 262 | HJ3: 281 | HK3: 239 | HL3: 23 | HM3: 27 | HN3: 87 | HO3: 1332 | HP3: 0 | HQ3: 0 | HR3: 0 | HS3: 1419 | HT3: =FY26_FE_Data_April15[[#This Row],[Oct 1, 2026 (CDC) - K]]+FY26_FE_Data_April15[[#This Row],[Oct 1, 2026 (CDC) - Grades 1-6]]+FY26_FE_Data_April15[[#This Row],[Oct 1, 2026 (CDC) - Grades 7-8]] -> 87 | HU3: 0
A4: 3 | B4: 030 | C4: Box Elder Co School District | D4: District | E4: Yes | F4: Yes | H4: 1172.0667 | I4: 202.26667 | J4: 1374.3333 | K4: 831 | L4: 5633 | M4: 1960 | N4: 3914 | O4: 12338 | P4: 11507 | Q4: 8424 | R4: 206 | S4: 820.28889 | T4: 926.06667 | U4: 966.77778 | V4: 892.28889 | W4: 919.16111 | X4: 879.82778 | Y4: 929.98333 | Z4: 933.1 | AA4: 982.95 | AB4: 972.89444 | AC4: 1029.1056 | AD4: 949.69444 | AE4: 769.27778 | AF4: 5514.1056 | AG4: 1916.05 | AH4: 3720.9722 | AI4: 8250.4444 | AJ4: 11151.128 | AK4: 11971.417 | AL4: 1197.4889 | AM4: 204.15556 | AN4: 1401.6444 | AO4: 12175.572 | AP4: 821 | AQ4: 847 | AR4: 937 | AS4: 985 | AT4: 912 | AU4: 938 | AV4: 911 | AW4: 943 | AX4: 971 | AY4: 1041 | AZ4: 1000 | BA4: 1003 | BB4: 959 | BC4: 5530 | BD4: 1914 | BE4: 4003 | BF4: 8265 | BG4: 11447 | BH4: 12268 | BI4: 813 | BJ4: 8 | BK4: 6 | BL4: 4025 | BM4: 1265 | BN4: 224 | BO4: 1489 | BP4: 441 | BQ4: 0.083906684 | BR4: 687.82 | BS4: 657.85 | BT4: 623.95 | BU4: 704.72 | BV4: 0 | BW4: 0 | BX4: 0 | BY4: 21.522222 | BZ4: 791.4 | CA4: 812.92222 | CB4: 826.92222 | CC4: 916.30556 | CD4: 962.38889 | CE4: 905.43889 | CF4: 923.65 | CG4: 889.66667 | CH4: 918.56667 | CI4: 938.22222 | CJ4: 1010.3167 | CK4: 963.15556 | CL4: 966.97778 | CM4: 836.31667 | CN4: 5424.3722 | CO4: 1856.7889 | CP4: 3776.7667 | CQ4: 8094.0833 | CR4: 11057.928 | CS4: 11870.85 | CT4: 1279.0722 | CU4: 224.73333 | CV4: 1503.8056 | CW4: 12095.583 | CX4: 0 | CY4: 836 | CZ4: 46 | DA4: 882 | DB4: 822 | DC4: 850 | DD4: 931 | DE4: 980 | DF4: 911 | DG4: 960 | DH4: 919 | DI4: 972 | DJ4: 1014 | DK4: 1038 | DL4: 982 | DM4: 983 | DN4: 5454 | DO4: 1891 | DP4: 4017 | DQ4: 8227 | DR4: 11362 | DS4: 12244 | DT4: 9 | DU4: 3924 | DV4: 1388 | DW4: 227 | DX4: 1615 | DY4: 12471 | DZ4: 441 | EA4: 711.63 | EB4: 681.63 | EC4: 311.632 | ED4: 268.228 | EE4: 0 | EF4: 735.51 | EG4: 0.083551313 | EI4: 886 | EJ4: 11414 | EN4: 12300 | EO4: 231 | EP4: 1590 | EQ4: 1821 | ER4: 1358 | ES4: 232 | ET4: 40 | EU4: 310.923 | EV4: 9.175 | EW4: 44.866 | EX4: 5.875 | EY4: 242.107 | EZ4: 612.946 | FA4: 20 | FB4: 838.58889 | FC4: 858.58889 | FD4: 805.18889 | FE4: 829.12778 | FF4: 907.51667 | FG4: 955.91111 | FH4: 891.27778 | FI4: 931.87778 | FJ4: 889.15 | FK4: 947.97222 | FL4: 989.17778 | FM4: 1003.8944 | FN4: 942.39444 | FO4: 838.22778 | FP4: 5320.9 | FQ4: 1837.1222 | FR4: 3773.6944 | FS4: 8016.6111 | FT4: 10931.717 | FU4: 11790.306 | FV4: 1360.3944 | FW4: 234.02778 | FX4: 1594.4222 | FY4: 12024.333 | FZ4: 29 | GA4: 779 | GB4: 808 | GC4: 867 | GD4: 832 | GE4: 842 | GF4: 942 | GG4: 1001 | GH4: 917 | GI4: 958 | GJ4: 940 | GK4: 986 | GL4: 1023 | GM4: 999 | GN4: 972 | GO4: 5401 | GP4: 1898 | GQ4: 3980 | GR4: 8107 | GS4: 11279 | GT4: 12087 | GU4: 6 | GV4: 3621 | GW4: 1399 | GX4: 226 | GY4: 1625 | GZ4: 12313 | HA4: 415 | HB4: 717.09 | HC4: 683.09 | HD4: 304.151 | HE4: 264.259 | HG4: 724.09 | HH4: 218 | HI4: 1613 | HJ4: 1831 | HK4: 1395 | HL4: 218 | HM4: 58 | HN4: 795 | HO4: 11105 | HP4: 0 | HQ4: 0 | HR4: 0 | HS4: 11900 | HT4: =FY26_FE_Data_April15[[#This Row],[Oct 1, 2026 (CDC) - K]]+FY26_FE_Data_April15[[#This Row],[Oct 1, 2026 (CDC) - Grades 1-6]]+FY26_FE_Data_April15[[#This Row],[Oct 1, 2026 (CDC) - Grades 7-8]] -> 795 | HU4: 0
A5: 4 | B5: 040 | C5: Cache Co School District | D5: District | E5: Yes | F5: Yes | H5: 1942.4444 | I5: 316.53333 | J5: 2258.9778 | K5: 1308 | L5: 8695 | M5: 3029 | N5: 6699 | O5: 19731 | P5: 18423 | Q5: 13032 | R5: 347 | S5: 1265.2667 | T5: 1389.1111 | U5: 1360.4778 | V5: 1390.9944 | W5: 1428.8278 | X5: 1451.7278 | Y5: 1518.1111 | Z5: 1474.7444 | AA5: 1515.2667 | AB5: 1684.7333 | AC5: 1700.6056 | AD5: 1626.4889 | AE5: 1489.3222 | AF5: 8539.25 | AG5: 2990.0111 | AH5: 6501.15 | AI5: 12794.528 | AJ5: 18030.411 | AK5: 19295.678 | AL5: 1883.4 | AM5: 342.18333 | AN5: 2225.5833 | AO5: 19637.861 | AP5: 1275 | AQ5: 1343 | AR5: 1426 | AS5: 1421 | AT5: 1449 | AU5: 1479 | AV5: 1518 | AW5: 1603 | AX5: 1493 | AY5: 1720 | AZ5: 1695 | BA5: 1711 | BB5: 1661 | BC5: 8636 | BD5: 3096 | BE5: 6787 | BF5: 13007 | BG5: 18519 | BH5: 19794 | BI5: 613 | BJ5: 662 | BK5: 21 | BL5: 5235 | BM5: 1999 | BN5: 324 | BO5: 2323 | BP5: 697 | BQ5: 0.088204922 | BR5: 1047.843 | BS5: 1011.843 | BT5: 938.45598 | BU5: 1033.624 | BV5: 0 | BW5: 0 | BX5: 0 | BY5: 651.46667 | BZ5: 599.53333 | CA5: 1251 | CB5: 1306.8722 | CC5: 1393.4667 | CD5: 1409.0556 | CE5: 1419.0278 | CF5: 1452.3389 | CG5: 1502.0222 | CH5: 1571.6278 | CI5: 1481.0222 | CJ5: 1696.3389 | CK5: 1664.5056 | CL5: 1673.9222 | CM5: 1557.7944 | CN5: 8482.7833 | CO5: 3052.65 | CP5: 6592.5611 | CQ5: 12786.433 | CR5: 18127.994 | CS5: 19378.994 | CT5: 1931.2833 | CU5: 321.56667 | CV5: 2252.85 | CW5: 19700.561 | CX5: 0 | CY5: 1018 | CZ5: 200 | DA5: 1218 | DB5: 1316 | DC5: 1358 | DD5: 1456 | DE5: 1458 | DF5: 1483 | DG5: 1502 | DH5: 1590 | DI5: 1623 | DJ5: 1716 | DK5: 1740 | DL5: 1676 | DM5: 1711 | DN5: 8573 | DO5: 3213 | DP5: 6843 | DQ5: 13004 | DR5: 18629 | DS5: 19847 | DT5: 24 | DU5: 5515 | DV5: 1968 | DW5: 337 | DX5: 2305 | DY5: 20184 | DZ5: 735 | EA5: 1062.375 | EB5: 1026.375 | EC5: 454.337 | ED5: 413.829 | EE5: 2.957 | EF5: 1074.58 | EG5: 0.089839445 | EI5: 1215 | EJ5: 18584 | EN5: 19799 | EO5: 357 | EP5: 2250 | EQ5: 2607 | ER5: 1911 | ES5: 339 | ET5: 226 | EU5: 890 | EV5: 15 | EW5: 59 | EX5: 12 | EY5: 330 | EZ5: 1306 | FA5: 180.21111 | FB5: 1010.0944 | FC5: 1190.3056 | FD5: 1282.9222 | FE5: 1329.5167 | FF5: 1421.8167 | FG5: 1434.6444 | FH5: 1450.6167 | FI5: 1467.5667 | FJ5: 1568.75 | FK5: 1600.4667 | FL5: 1688.9611 | FM5: 1709.3333 | FN5: 1645.1 | FO5: 1617.65 | FP5: 8387.0833 | FQ5: 3169.2167 | FR5: 6661.0444 | FS5: 12746.606 | FT5: 18217.344 | FU5: 19407.65 | FV5: 1911.5722 | FW5: 347.11667 | FX5: 2258.6889 | FY5: 19754.767 | FZ5: 152 | GA5: 1034 | GB5: 1186 | GC5: 1235 | GD5: 1320 | GE5: 1369 | GF5: 1471 | GG5: 1488 | GH5: 1517 | GI5: 1544 | GJ5: 1610 | GK5: 1822 | GL5: 1714 | GM5: 1732 | GN5: 1712 | GO5: 8400 | GP5: 3154 | GQ5: 6980 | GR5: 12740 | GS5: 18534 | GT5: 19720 | GU5: 15 | GV5: 4982 | GW5: 1921 | GX5: 382 | GY5: 2303 | GZ5: 20102 | HA5: 685 | HB5: 1075.368 | HC5: 1038.868 | HD5: 453.66 | HE5: 420.446 | HG5: 1090.048 | HH5: 341 | HI5: 2264 | HJ5: 2605 | HK5: 1886 | HL5: 378 | HM5: 264 | HN5: 1158 | HO5: 18092 | HP5: 0 | HQ5: 0 | HR5: 0 | HS5: 19250 | HT5: =FY26_FE_Data_April15[[#This Row],[Oct 1, 2026 (CDC) - K]]+FY26_FE_Data_April15[[#This Row],[Oct 1, 2026 (CDC) - Grades 1-6]]+FY26_FE_Data_April15[[#This Row],[Oct 1, 2026 (CDC) - Grades 7-8]] -> 1158 | HU5: 0
A6: 5 | B6: 050 | C6: Carbon Co School District | D6: District | E6: Yes | F6: Yes | H6: 438.91111 | I6: 67.177778 | J6: 506.08889 | K6: 213 | L6: 1521 | M6: 548 | N6: 1052 | O6: 3334 | P6: 3121 | Q6: 2282 | R6: 56 | S6: 206.18333 | T6: 247.58889 | U6: 230.10556 | V6: 213.96667 | W6: 287.01111 | X6: 253.4 | Y6: 260.86111 | Z6: 263.42778 | AA6: 274.1 | AB6: 263.95 | AC6: 284.13333 | AD6: 236.12778 | AE6: 223.07778 | AF6: 1492.9333 | AG6: 537.52778 | AH6: 1007.2889 | AI6: 2236.6444 | AJ6: 3037.75 | AK6: 3243.9333 | AL6: 477.15556 | AM6: 50.672222 | AN6: 527.82778 | AO6: 3294.6056 | AP6: 201 | AQ6: 200 | AR6: 244 | AS6: 226 | AT6: 219 | AU6: 287 | AV6: 253 | AW6: 265 | AX6: 252 | AY6: 273 | AZ6: 263 | BA6: 267 | BB6: 228 | BC6: 1429 | BD6: 517 | BE6: 1031 | BF6: 2147 | BG6: 2977 | BH6: 3178 | BI6: 201 | BJ6: 0 | BK6: 5 | BL6: 1449 | BM6: 454 | BN6: 39 | BO6: 493 | BP6: 78 | BQ6: 0.083952468 | BR6: 217.95 | BS6: 205.95 | BT6: 196.75 | BU6: 220.95 | BV6: 0 | BW6: 0 | BX6: 0 | BY6: 0 | BZ6: 197.73889 | CA6: 197.73889 | CB6: 201.18333 | CC6: 241.00556 | CD6: 222.83333 | CE6: 219.38333 | CF6: 283.72778 | CG6: 257.2 | CH6: 267.42778 | CI6: 256.01667 | CJ6: 271.58333 | CK6: 249.87222 | CL6: 256.48333 | CM6: 212.13333 | CN6: 1425.3333 | CO6: 523.44444 | CP6: 990.07222 | CQ6: 2146.5167 | CR6: 2938.85 | CS6: 3136.5889 | CT6: 482.05 | CU6: 43.416667 | CV6: 525.46667 | CW6: 3180.0056 | CX6: 0 | CY6: 239 | CZ6: 0 | DA6: 239 | DB6: 198 | DC6: 197 | DD6: 251 | DE6: 230 | DF6: 229 | DG6: 294 | DH6: 266 | DI6: 261 | DJ6: 246 | DK6: 277 | DL6: 248 | DM6: 250 | DN6: 1399 | DO6: 527 | DP6: 1021 | DQ6: 2165 | DR6: 2947 | DS6: 3186 | DT6: 6 | DU6: 1536 | DV6: 480 | DW6: 39 | DX6: 519 | DY6: 3225 | DZ6: 84 | EA6: 219 | EB6: 207 | EC6: 88.6 | ED6: 84.29 | EE6: 0.5 | EF6: 220 | EG6: 0.083312661 | EI6: 235 | EJ6: 2897 | EN6: 3132 | EO6: 77 | EP6: 512 | EQ6: 590 | ER6: 476 | ES6: 36 | ET6: 48 | EU6: 120.1 | EV6: 4.8 | EW6: 19.73 | EX6: 15.5 | EY6: 89.32 | EZ6: 249.45 | FA6: 1 | FB6: 236.72778 | FC6: 237.72778 | FD6: 190.9 | FE6: 192.51111 | FF6: 246.56667 | FG6: 226.85 | FH6: 227.80556 | FI6: 288.72222 | FJ6: 261.04444 | FK6: 257.43889 | FL6: 241.08889 | FM6: 265.12778 | FN6: 240.22778 | FO6: 239.84444 | FP6: 1373.3556 | FQ6: 518.48333 | FR6: 986.28889 | FS6: 2129.5667 | FT6: 2878.1278 | FU6: 3115.8556 | FV6: 463.11667 | FW6: 38.922222 | FX6: 502.03889 | FY6: 3154.7778 | FZ6: 0 | GA6: 236 | GB6: 236 | GC6: 237 | GD6: 194 | GE6: 197 | GF6: 254 | GG6: 225 | GH6: 236 | GI6: 296 | GJ6: 259 | GK6: 263 | GL6: 243 | GM6: 259 | GN6: 236 | GO6: 1343 | GP6: 555 | GQ6: 1001 | GR6: 2134 | GS6: 2899 | GT6: 3135 | GU6: 1 | GV6: 1300 | GW6: 441 | GX6: 51 | GY6: 492 | GZ6: 3186 | HA6: 87 | HB6: 212 | HC6: 200 | HD6: 88.74 | HE6: 81.02 | HG6: 213.5 | HH6: 58 | HI6: 501 | HJ6: 559 | HK6: 449 | HL6: 52 | HM6: 49 | HN6: 233 | HO6: 2861 | HP6: 0 | HQ6: 0 | HR6: 0 | HS6: 3094 | HT6: =FY26_FE_Data_April15[[#This Row],[Oct 1, 2026 (CDC) - K]]+FY26_FE_Data_April15[[#This Row],[Oct 1, 2026 (CDC) - Grades 1-6]]+FY26_FE_Data_April15[[#This Row],[Oct 1, 2026 (CDC) - Grades 7-8]] -> 233 | HU6: 0
A7: 6 | B7: 060 | C7: Daggett Co School District | D7: District | E7: Yes | F7: Yes | H7: 27.161111 | I7: 3.5666667 | J7: 30.727778 | K7: 9 | L7: 78 | M7: 24 | N7: 66 | O7: 177 | P7: 168 | Q7: 111 | R7: 2 | S7: 8.6111111 | T7: 13 | U7: 12.777778 | V7: 9.15 | W7: 13.372222 | X7: 11.288889 | Y7: 15.772222 | Z7: 11.1 | AA7: 13 | AB7: 16.377778 | AC7: 16.627778 | AD7: 15.388889 | AE7: 16.483333 | AF7: 75.361111 | AG7: 24.1 | AH7: 64.877778 | AI7: 108.07222 | AJ7: 164.33889 | AK7: 172.95 | AL7: 19.805556 | AM7: 1.4444444 | AN7: 21.25 | AO7: 174.39444 | AP7: 11 | AQ7: 8 | AR7: 14 | AS7: 14 | AT7: 10 | AU7: 15 | AV7: 11 | AW7: 19 | AX7: 11 | AY7: 13 | AZ7: 17 | BA7: 16 | BB7: 18 | BC7: 72 | BD7: 30 | BE7: 64 | BF7: 113 | BG7: 166 | BH7: 177 | BI7: 11 | BJ7: 0 | BK7: 0 | BL7: 40 | BM7: 19 | BN7: 0 | BO7: 19 | BP7: 0 | BQ7: 0.068478261 | BR7: 22.008 | BS7: 21.458 | BT7: 21.458 | BU7: 22.008 | BV7: 0 | BW7: 0 | BX7: 0 | BY7: 0 | BZ7: 10.9 | CA7: 10.9 | CB7: 8.0944444 | CC7: 13.066667 | CD7: 14 | CE7: 9.9 | CF7: 15.255556 | CG7: 11.972222 | CH7: 18.533333 | CI7: 11 | CJ7: 12.75 | CK7: 17 | CL7: 15.744444 | CM7: 17.922222 | CN7: 72.288889 | CO7: 29.533333 | CP7: 63.416667 | CQ7: 112.72222 | CR7: 165.23889 | CS7: 176.13889 | CT7: 23.622222 | CU7: 0 | CV7: 23.622222 | CW7: 176.13889 | CX7: 0 | CY7: 6 | CZ7: 1 | DA7: 7 | DB7: 8 | DC7: 9 | DD7: 12 | DE7: 13 | DF7: 9 | DG7: 15 | DH7: 14 | DI7: 17 | DJ7: 12 | DK7: 13 | DL7: 16 | DM7: 16 | DN7: 66 | DO7: 31 | DP7: 57 | DQ7: 104 | DR7: 154 | DS7: 161 | DT7: 0 | DU7: 38 | DV7: 23 | DW7: 1 | DX7: 24 | DY7: 162 | DZ7: 0 | EA7: 20.8 | EB7: 20.25 | EC7: 7.92 | ED7: 9.53 | EE7: 1 | EF7: 22.1 | EG7: 0.073958333 | EI7: 6 | EJ7: 139 | EN7: 145 | EO7: 2 | EP7: 25 | EQ7: 27 | ER7: 25 | ES7: 0 | ET7: 2 | EU7: 6.04 | EV7: 0 | EW7: 2.46 | EX7: 0.17 | EY7: 12.01 | EZ7: 20.68 | FA7: 0 | FB7: 6.7222222 | FC7: 6.7222222 | FD7: 8.6833333 | FE7: 8.0833333 | FF7: 11.638889 | FG7: 12.25 | FH7: 9.0166667 | FI7: 15 | FJ7: 12.655556 | FK7: 17.466667 | FL7: 12 | FM7: 12.761111 | FN7: 15.433333 | FO7: 16 | FP7: 64.672222 | FQ7: 30.122222 | FR7: 56.194444 | FS7: 101.51667 | FT7: 150.98889 | FU7: 157.71111 | FV7: 22.972222 | FW7: 0.011111111 | FX7: 22.983333 | FY7: 157.72222 | FZ7: 0 | GA7: 7 | GB7: 7 | GC7: 5 | GD7: 7 | GE7: 7 | GF7: 11 | GG7: 12 | GH7: 10 | GI7: 14 | GJ7: 11 | GK7: 16 | GL7: 13 | GM7: 13 | GN7: 14 | GO7: 52 | GP7: 25 | GQ7: 56 | GR7: 84 | GS7: 133 | GT7: 140 | GU7: 0 | GV7: 24 | GW7: 22 | GX7: 0 | GY7: 22 | GZ7: 140 | HA7: 0 | HB7: 22.2 | HC7: 21.25 | HD7: 9.59 | HE7: 9.86 | HG7: 24.5 | HH7: 3 | HI7: 26 | HJ7: 29 | HK7: 26 | HL7: 0 | HM7: 2 | HN7: 7 | HO7: 124 | HP7: 0 | HQ7: 0 | HR7: 0 | HS7: 131 | HT7: =FY26_FE_Data_April15[[#This Row],[Oct 1, 2026 (CDC) - K]]+FY26_FE_Data_April15[[#This Row],[Oct 1, 2026 (CDC) - Grades 1-6]]+FY26_FE_Data_April15[[#This Row],[Oct 1, 2026 (CDC) - Grades 7-8]] -> 7 | HU7: 0
A8: 7 | B8: 070 | C8: Davis Co School District | D8: District | E8: Yes | F8: Yes | H8: 7830.7444 | I8: 870.86667 | J8: 8701.6111 | K8: 4304 | L8: 31131 | M8: 11895 | N8: 24234 | O8: 71564 | P8: 67260 | Q8: 47330 | R8: 888 | S8: 4248.4833 | T8: 4942.4222 | U8: 4841.1889 | V8: 5122.4667 | W8: 5250.8556 | X8: 5283.4611 | Y8: 5319.7389 | Z8: 5800.0833 | AA8: 5860.6833 | AB8: 5968.2111 | AC8: 6221.8944 | AD8: 5824.2056 | AE8: 5190.5722 | AF8: 30760.133 | AG8: 11660.767 | AH8: 23204.883 | AI8: 46669.383 | AJ8: 65625.783 | AK8: 69874.267 | AL8: 8288.8667 | AM8: 882.98333 | AN8: 9171.85 | AO8: 70757.25 | AP8: 4232 | AQ8: 4404 | AR8: 5024 | AS8: 4965 | AT8: 5196 | AU8: 5375 | AV8: 5395 | AW8: 5675 | AX8: 5901 | AY8: 5995 | AZ8: 6205 | BA8: 6279 | BB8: 6057 | BC8: 30359 | BD8: 11576 | BE8: 24536 | BF8: 46167 | BG8: 66471 | BH8: 70703 | BI8: 3851 | BJ8: 381 | BK8: 31 | BL8: 13128 | BM8: 8526 | BN8: 914 | BO8: 9440 | BP8: 3167 | BQ8: 0.09328973 | BR8: 3895.298 | BS8: 3692.998 | BT8: 3505.474 | BU8: 3864.61 | BV8: 2962 | BW8: 198 | BX8: 1239.4278 | BY8: 382.88889 | BZ8: 3830.7389 | CA8: 4213.6278 | CB8: 4352.1222 | CC8: 4968.7556 | CD8: 4908.8 | CE8: 5147.3944 | CF8: 5303.6167 | CG8: 5328.6444 | CH8: 5579.5667 | CI8: 5767.3833 | CJ8: 5879.9722 | CK8: 6096.6889 | CL8: 6088.2722 | CM8: 5350.9444 | CN8: 30009.333 | CO8: 11346.95 | CP8: 23415.878 | CQ8: 45569.911 | CR8: 64772.161 | CS8: 68985.789 | CT8: 8591.8111 | CU8: 871.87778 | CV8: 9463.6889 | CW8: 69857.667 | CX8: 1204.0944 | CY8: 3915 | CZ8: 153 | DA8: 4068 | DB8: 4328 | DC8: 4478 | DD8: 5089 | DE8: 5020 | DF8: 5238 | DG8: 5406 | DH8: 5727 | DI8: 5716 | DJ8: 5867 | DK8: 6224 | DL8: 6113 | DM8: 6328 | DN8: 29559 | DO8: 11443 | DP8: 24532 | DQ8: 45070 | DR8: 65534 | DS8: 69602 | DT8: 31 | DU8: 13152 | DV8: 8876 | DW8: 897 | DX8: 9773 | DY8: 70499 | DZ8: 3206 | EA8: 3917.818 | EB8: 3692.088 | EC8: 1626.304 | ED8: 1493.749 | EE8: 0 | EF8: 3969.828 | EG8: 0.094095448 | EI8: 3951 | EJ8: 63649 | EN8: 67600 | EO8: 849 | EP8: 9722 | EQ8: 10571 | ER8: 8809 | ES8: 913 | ET8: 132 | EU8: 1674.33 | EV8: 50.9 | EW8: 220.14 | EX8: 41.58 | EY8: 1066.11 | EZ8: 3053.06 | FA8: 143.25556 | FB8: 3874.3222 | FC8: 4017.5778 | FD8: 4246.2389 | FE8: 4395.3722 | FF8: 5013.7944 | FG8: 4937.3 | FH8: 5179.4722 | FI8: 5335.0611 | FJ8: 5622.0333 | FK8: 5599.3333 | FL8: 5732.0444 | FM8: 6075.8111 | FN8: 5946.1667 | FO8: 5558.3167 | FP8: 29107.239 | FQ8: 11221.367 | FR8: 23312.339 | FS8: 44346.183 | FT8: 63640.944 | FU8: 67658.522 | FV8: 8743.7111 | FW8: 917.78889 | FX8: 9661.5 | FY8: 68576.311 | FZ8: 86 | GA8: 3555 | GB8: 3641 | GC8: 4020 | GD8: 4306 | GE8: 4472 | GF8: 5082 | GG8: 4993 | GH8: 5237 | GI8: 5789 | GJ8: 5750 | GK8: 5766 | GL8: 6053 | GM8: 6146 | GN8: 6211 | GO8: 28110 | GP8: 11539 | GQ8: 24176 | GR8: 43290 | GS8: 63825 | GT8: 67466 | GU8: 33 | GV8: 12844 | GW8: 8647 | GX8: 1032 | GY8: 9679 | GZ8: 68498 | HA8: 3057 | HB8: 3973.067 | HC8: 3728.368 | HD8: 1644.49 | HE8: 1456.441 | HG8: 3992.699 | HH8: 769 | HI8: 9665 | HJ8: 10434 | HK8: 8547 | HL8: 1118 | HM8: 169 | HN8: 3524 | HO8: 61781 | HP8: 0 | HQ8: 0 | HR8: 0 | HS8: 65305 | HT8: =FY26_FE_Data_April15[[#This Row],[Oct 1, 2026 (CDC) - K]]+FY26_FE_Data_April15[[#This Row],[Oct 1, 2026 (CDC) - Grades 1-6]]+FY26_FE_Data_April15[[#This Row],[Oct 1, 2026 (CDC) - Grades 7-8]] -> 3524 | HU8: 1191.0111
A9: 8 | B9: 080 | C9: Duchesne Co School District | D9: District | E9: Yes | F9: Yes | H9: 828.65556 | I9: 125.00556 | J9: 953.66111 | K9: 360 | L9: 2338 | M9: 841 | N9: 1685 | O9: 5224 | P9: 4864 | Q9: 3539 | R9: 126 | S9: 347.52222 | T9: 351.76667 | U9: 375.95556 | V9: 381.68333 | W9: 420.06667 | X9: 368.30556 | Y9: 374.99444 | Z9: 391.88333 | AA9: 412.13889 | AB9: 474.45 | AC9: 412.11111 | AD9: 374.48333 | AE9: 278.40556 | AF9: 2272.7722 | AG9: 804.02222 | AH9: 1539.45 | AI9: 3424.3167 | AJ9: 4616.2444 | AK9: 4963.7667 | AL9: 866.79444 | AM9: 125.29444 | AN9: 992.08889 | AO9: 5089.0611 | AP9: 367 | AQ9: 352 | AR9: 352 | AS9: 371 | AT9: 382 | AU9: 428 | AV9: 380 | AW9: 391 | AX9: 413 | AY9: 445 | AZ9: 472 | BA9: 411 | BB9: 379 | BC9: 2265 | BD9: 804 | BE9: 1707 | BF9: 3436 | BG9: 4776 | BH9: 5143 | BI9: 356 | BJ9: 11 | BK9: 3 | BL9: 1999 | BM9: 888 | BN9: 123 | BO9: 1011 | BP9: 128 | BQ9: 0.092211698 | BR9: 332.462 | BS9: 313.462 | BT9: 296.912 | BU9: 330.092 | BV9: 0 | BW9: 15 | BX9: 152.41667 | BY9: 7.855555 | BZ9: 354.7 | CA9: 362.55556 | CB9: 343.26667 | CC9: 337.3 | CD9: 371.27222 | CE9: 366.89444 | CF9: 423.58889 | CG9: 356.3 | CH9: 368.97222 | CI9: 397.00556 | CJ9: 426.23889 | CK9: 450 | CL9: 383.61667 | CM9: 289.67222 | CN9: 2198.6222 | CO9: 765.97778 | CP9: 1549.5278 | CQ9: 3327.1556 | CR9: 4514.1278 | CS9: 4876.6833 | CT9: 874.53333 | CU9: 123.37778 | CV9: 997.91111 | CW9: 5000.0611 | CX9: 147.37778 | CY9: 341 | CZ9: 7 | DA9: 348 | DB9: 368 | DC9: 353 | DD9: 350 | DE9: 385 | DF9: 381 | DG9: 430 | DH9: 374 | DI9: 395 | DJ9: 449 | DK9: 449 | DL9: 442 | DM9: 380 | DN9: 2267 | DO9: 769 | DP9: 1720 | DQ9: 3384 | DR9: 4756 | DS9: 5104 | DT9: 1 | DU9: 1831 | DV9: 869 | DW9: 120 | DX9: 989 | DY9: 5224 | DZ9: 120 | EA9: 334.636 | EB9: 316.636 | EC9: 145.233 | ED9: 128.248 | EE9: 1 | EF9: 343.016 | EG9: 0.094805244 | EI9: 342 | EJ9: 4667 | EN9: 5009 | EO9: 80 | EP9: 979 | EQ9: 1059 | ER9: 862 | ES9: 117 | ET9: 22 | EU9: 179.456 | EV9: 7.625 | EW9: 22.2 | EX9: 1.068 | EY9: 105.993 | EZ9: 316.342 | FA9: 7.0666667 | FB9: 331.59444 | FC9: 338.66111 | FD9: 361.92778 | FE9: 342.19444 | FF9: 335.8 | FG9: 375.98889 | FH9: 368.71111 | FI9: 417.79444 | FJ9: 351.02222 | FK9: 370.98889 | FL9: 425.67778 | FM9: 417.75 | FN9: 421.80556 | FO9: 288.48333 | FP9: 2202.4167 | FQ9: 722.01111 | FR9: 1553.7167 | FS9: 3263.0889 | FT9: 4478.1444 | FU9: 4816.8056 | FV9: 872.08333 | FW9: 116.13889 | FX9: 988.22222 | FY9: 4932.9444 | FZ9: 4 | GA9: 331 | GB9: 335 | GC9: 333 | GD9: 364 | GE9: 353 | GF9: 339 | GG9: 373 | GH9: 380 | GI9: 426 | GJ9: 363 | GK9: 426 | GL9: 434 | GM9: 398 | GN9: 418 | GO9: 2142 | GP9: 789 | GQ9: 1676 | GR9: 3266 | GS9: 4607 | GT9: 4942 | GU9: 4 | GV9: 1622 | GW9: 895 | GX9: 109 | GY9: 1004 | GZ9: 5051 | HA9: 140 | HB9: 333.928 | HC9: 314.928 | HD9: 140.795 | HE9: 119.906 | HG9: 337.928 | HH9: 67 | HI9: 987 | HJ9: 1054 | HK9: 880 | HL9: 107 | HM9: 15 | HN9: 325 | HO9: 4475 | HP9: 0 | HQ9: 0 | HR9: 0 | HS9: 4800 | HT9: =FY26_FE_Data_April15[[#This Row],[Oct 1, 2026 (CDC) - K]]+FY26_FE_Data_April15[[#This Row],[Oct 1, 2026 (CDC) - Grades 1-6]]+FY26_FE_Data_April15[[#This Row],[Oct 1, 2026 (CDC) - Grades 7-8]] -> 325 | HU9: 139.83889
A10: 9 | B10: 090 | C10: Emery School District | D10: District | E10: Yes | F10: Yes | H10: 376.78889 | I10: 28.038889 | J10: 404.82778 | K10: 139 | L10: 923 | M10: 329 | N10: 694 | O10: 2085 | P10: 1946 | Q10: 1391 | R10: 30 | S10: 136.69444 | T10: 128.39444 | U10: 166.65 | V10: 140.32222 | W10: 159.62778 | X10: 155.9 | Y10: 152.73333 | Z10: 152.31667 | AA10: 170.67222 | AB10: 178.89444 | AC10: 171.16111 | AD10: 158.11111 | AE10: 136.46667 | AF10: 903.62778 | AG10: 322.98889 | AH10: 644.63333 | AI10: 1363.3111 | AJ10: 1871.25 | AK10: 2007.9444 | AL10: 354.35556 | AM10: 29.388889 | AN10: 383.74444 | AO10: 2037.3333 | AP10: 150 | AQ10: 137 | AR10: 130 | AS10: 170 | AT10: 136 | AU10: 168 | AV10: 163 | AW10: 161 | AX10: 161 | AY10: 182 | AZ10: 179 | BA10: 165 | BB10: 156 | BC10: 904 | BD10: 322 | BE10: 682 | BF10: 1376 | BG10: 1908 | BH10: 2058 | BI10: 150 | BJ10: 0 | BK10: 4 | BL10: 942 | BM10: 354 | BN10: 26 | BO10: 380 | BP10: 62 | BQ10: 0.089690242 | BR10: 147.64 | BS10: 136.64 | BT10: 133.68 | BU10: 151.14 | BV10: 0 | BW10: 0 | BX10: 0 | BY10: 31.705555 | BZ10: 113.95556 | CA10: 145.66111 | CB10: 132.98889 | CC10: 128.04444 | CD10: 164.42222 | CE10: 132.36111 | CF10: 163.01111 | CG10: 159.97222 | CH10: 153.82778 | CI10: 151.72778 | CJ10: 177.80556 | CK10: 173.17222 | CL10: 160.22778 | CM10: 124.26111 | CN10: 880.8 | CO10: 305.55556 | CP10: 635.46667 | CQ10: 1332.0167 | CR10: 1821.8222 | CS10: 1967.4833 | CT10: 351.72222 | CU10: 24.361111 | CV10: 376.08333 | CW10: 1991.8444 | CX10: 0 | CY10: 123 | CZ10: 1 | DA10: 124 | DB10: 145 | DC10: 129 | DD10: 134 | DE10: 167 | DF10: 133 | DG10: 167 | DH10: 164 | DI10: 154 | DJ10: 156 | DK10: 178 | DL10: 179 | DM10: 156 | DN10: 875 | DO10: 318 | DP10: 669 | DQ10: 1317 | DR10: 1862 | DS10: 1986 | DT10: 1 | DU10: 935 | DV10: 367 | DW10: 20 | DX10: 387 | DY10: 2006 | DZ10: 52 | EA10: 144.355 | EB10: 133.355 | EC10: 56.753 | ED10: 60.92 | EE10: 0 | EF10: 148.505 | EG10: 0.090573152 | EI10: 119 | EJ10: 1785 | EN10: 1904 | EO10: 40 | EP10: 389 | EQ10: 429 | ER10: 367 | ES10: 22 | ET10: 24 | EU10: 74.331 | EV10: 4.45 | EW10: 11.875 | EX10: 2 | EY10: 51.325 | EZ10: 143.981 | FA10: 1 | FB10: 118.77222 | FC10: 119.77222 | FD10: 142.66667 | FE10: 127.38333 | FF10: 129.46667 | FG10: 163.42778 | FH10: 129.83333 | FI10: 163.03333 | FJ10: 157.86667 | FK10: 153.42778 | FL10: 151.03889 | FM10: 169.97778 | FN10: 169.68889 | FO10: 134.42778 | FP10: 855.81111 | FQ10: 311.29444 | FR10: 625.13333 | FS10: 1286.8778 | FT10: 1792.2389 | FU10: 1912.0111 | FV10: 351.95 | FW10: 21.561111 | FX10: 373.51111 | FY10: 1933.5722 | FZ10: 1 | GA10: 106 | GB10: 107 | GC10: 119 | GD10: 144 | GE10: 134 | GF10: 127 | GG10: 169 | GH10: 132 | GI10: 161 | GJ10: 169 | GK10: 160 | GL10: 153 | GM10: 171 | GN10: 161 | GO10: 825 | GP10: 330 | GQ10: 645 | GR10: 1262 | GS10: 1800 | GT10: 1907 | GU10: 4 | GV10: 897 | GW10: 354 | GX10: 15 | GY10: 369 | GZ10: 1922 | HA10: 60 | HB10: 144.295 | HC10: 133.295 | HD10: 58.19 | HE10: 58.757 | HG10: 148.695 | HH10: 40 | HI10: 372 | HJ10: 412 | HK10: 356 | HL10: 16 | HM10: 13 | HN10: 102 | HO10: 1724 | HP10: 0 | HQ10: 0 | HR10: 0 | HS10: 1826 | HT10: =FY26_FE_Data_April15[[#This Row],[Oct 1, 2026 (CDC) - K]]+FY26_FE_Data_April15[[#This Row],[Oct 1, 2026 (CDC) - Grades 1-6]]+FY26_FE_Data_April15[[#This Row],[Oct 1, 2026 (CDC) - Grades 7-8]] -> 102 | HU10: 0
A11: 10 | B11: 100 | C11: Garfield Co School District | D11: District | E11: Yes | F11: Yes | H11: 112.87222 | I11: 11.822222 | J11: 124.69444 | K11: 118 | L11: 686 | M11: 139 | N11: 300 | O11: 1243 | P11: 1125 | Q11: 943 | R11: 10 | S11: 113.17222 | T11: 125.28889 | U11: 136.16111 | V11: 118.62778 | W11: 107.32222 | X11: 94.338889 | Y11: 80.883333 | Z11: 69.622222 | AA11: 67.672222 | AB11: 73.938889 | AC11: 83.161111 | AD11: 65.155556 | AE11: 68.516667 | AF11: 662.62222 | AG11: 137.29444 | AH11: 290.77222 | AI11: 913.08889 | AJ11: 1090.6889 | AK11: 1203.8611 | AL11: 119.38889 | AM11: 9.9444444 | AN11: 129.33333 | AO11: 1213.8056 | AP11: 175 | AQ11: 179 | AR11: 163 | AS11: 183 | AT11: 150 | AU11: 142 | AV11: 108 | AW11: 62 | AX11: 67 | AY11: 66 | AZ11: 70 | BA11: 81 | BB11: 65 | BC11: 925 | BD11: 129 | BE11: 282 | BF11: 1229 | BG11: 1336 | BH11: 1511 | BI11: 175 | BJ11: 0 | BK11: 0 | BL11: 474 | BM11: 133 | BN11: 10 | BO11: 143 | BP11: 85 | BQ11: 0.087009986 | BR11: 77.862 | BS11: 73.412 | BT11: 72.462 | BU11: 77.162 | BV11: 0 | BW11: 207 | BX11: 298.91111 | BY11: 103.46667 | BZ11: 58.777777 | CA11: 162.24444 | CB11: 171.44444 | CC11: 153.58889 | CD11: 174.81111 | CE11: 143.72222 | CF11: 136 | CG11: 104.32222 | CH11: 62.188889 | CI11: 65.661111 | CJ11: 65.905556 | CK11: 71.483333 | CL11: 80.733333 | CM11: 62.094444 | CN11: 883.88889 | CO11: 127.85 | CP11: 280.21667 | CQ11: 1173.9833 | CR11: 1291.9556 | CS11: 1454.2 | CT11: 130.55556 | CU11: 8.9666667 | CV11: 139.52222 | CW11: 1463.1667 | CX11: 427.45556 | CY11: 225 | CZ11: 1 | DA11: 226 | DB11: 187 | DC11: 163 | DD11: 155 | DE11: 162 | DF11: 134 | DG11: 122 | DH11: 64 | DI11: 65 | DJ11: 63 | DK11: 71 | DL11: 67 | DM11: 82 | DN11: 923 | DO11: 129 | DP11: 283 | DQ11: 1278 | DR11: 1335 | DS11: 1561 | DT11: 1 | DU11: 348 | DV11: 114 | DW11: 9 | DX11: 123 | DY11: 1570 | DZ11: 86 | EA11: 82.29 | EB11: 76.59 | EC11: 37.3 | ED11: 32 | EE11: 0 | EF11: 84.5 | EG11: 0.087595607 | EI11: 230 | EJ11: 1361 | EN11: 1591 | EO11: 8 | EP11: 133 | EQ11: 141 | ER11: 123 | ES11: 10 | ET11: 14 | EU11: 31.39 | EV11: 1.6 | EW11: 7 | EX11: 10.5 | EY11: 19.5 | EZ11: 69.99 | FA11: 2 | FB11: 209.63333 | FC11: 211.63333 | FD11: 177.02222 | FE11: 158.22222 | FF11: 150.68333 | FG11: 153.71111 | FH11: 127.88889 | FI11: 116.78889 | FJ11: 62.127778 | FK11: 62.405556 | FL11: 61.222222 | FM11: 67.788889 | FN11: 67.7 | FO11: 74.8 | FP11: 884.31667 | FQ11: 124.53333 | FR11: 271.51111 | FS11: 1220.4833 | FT11: 1280.3611 | FU11: 1491.9944 | FV11: 125.87222 | FW11: 8.9055556 | FX11: 134.77778 | FY11: 1500.9 | FZ11: 0 | GA11: 145 | GB11: 145 | GC11: 162 | GD11: 149 | GE11: 137 | GF11: 126 | GG11: 119 | GH11: 106 | GI11: 61 | GJ11: 62 | GK11: 62 | GL11: 58 | GM11: 66 | GN11: 66 | GO11: 799 | GP11: 123 | GQ11: 252 | GR11: 1067 | GS11: 1174 | GT11: 1319 | GU11: 4 | GV11: 415 | GW11: 114 | GX11: 12 | GY11: 126 | GZ11: 1331 | HA11: 59 | HB11: 80.39 | HC11: 75.34 | HD11: 37.95 | HE11: 30.2 | HG11: 83.1 | HH11: 5 | HI11: 127 | HJ11: 132 | HK11: 117 | HL11: 10 | HM11: 3 | HN11: 140 | HO11: 1135 | HP11: 0 | HQ11: 0 | HR11: 0 | HS11: 1275 | HT11: =FY26_FE_Data_April15[[#This Row],[Oct 1, 2026 (CDC) - K]]+FY26_FE_Data_April15[[#This Row],[Oct 1, 2026 (CDC) - Grades 1-6]]+FY26_FE_Data_April15[[#This Row],[Oct 1, 2026 (CDC) - Grades 7-8]] -> 140 | HU11: 598.24444
